BEGIN:VCALENDAR
VERSION:2.0
PRODID:-//SWORDS ATV Club - ECPv6.15.10//NONSGML v1.0//EN
CALSCALE:GREGORIAN
METHOD:PUBLISH
X-ORIGINAL-URL:https://www.swordsatvclub.com
X-WR-CALDESC:Events for SWORDS ATV Club
REFRESH-INTERVAL;VALUE=DURATION:PT1H
X-Robots-Tag:noindex
X-PUBLISHED-TTL:PT1H
BEGIN:VTIMEZONE
TZID:America/Chicago
BEGIN:DAYLIGHT
TZOFFSETFROM:-0600
TZOFFSETTO:-0500
TZNAME:CDT
DTSTART:20200308T080000
END:DAYLIGHT
BEGIN:STANDARD
TZOFFSETFROM:-0500
TZOFFSETTO:-0600
TZNAME:CST
DTSTART:20201101T070000
END:STANDARD
BEGIN:DAYLIGHT
TZOFFSETFROM:-0600
TZOFFSETTO:-0500
TZNAME:CDT
DTSTART:20210314T080000
END:DAYLIGHT
BEGIN:STANDARD
TZOFFSETFROM:-0500
TZOFFSETTO:-0600
TZNAME:CST
DTSTART:20211107T070000
END:STANDARD
BEGIN:DAYLIGHT
TZOFFSETFROM:-0600
TZOFFSETTO:-0500
TZNAME:CDT
DTSTART:20220313T080000
END:DAYLIGHT
BEGIN:STANDARD
TZOFFSETFROM:-0500
TZOFFSETTO:-0600
TZNAME:CST
DTSTART:20221106T070000
END:STANDARD
BEGIN:DAYLIGHT
TZOFFSETFROM:-0600
TZOFFSETTO:-0500
TZNAME:CDT
DTSTART:20230312T080000
END:DAYLIGHT
BEGIN:STANDARD
TZOFFSETFROM:-0500
TZOFFSETTO:-0600
TZNAME:CST
DTSTART:20231105T070000
END:STANDARD
BEGIN:DAYLIGHT
TZOFFSETFROM:-0600
TZOFFSETTO:-0500
TZNAME:CDT
DTSTART:20240310T080000
END:DAYLIGHT
BEGIN:STANDARD
TZOFFSETFROM:-0500
TZOFFSETTO:-0600
TZNAME:CST
DTSTART:20241103T070000
END:STANDARD
END:VTIMEZONE
BEGIN:VEVENT
DTSTART;TZID=America/Chicago:20230608T183000
DTEND;TZID=America/Chicago:20230608T200000
DTSTAMP:20260423T124708
CREATED:20230426T172630Z
LAST-MODIFIED:20230426T172630Z
UID:2056-1686249000-1686254400@www.swordsatvclub.com
SUMMARY:SWORDS Monthly Meeting 6:30 VIP Superior
DESCRIPTION:
URL:https://www.swordsatvclub.com/event/swords-monthly-meeting-630-vip-superior-2/
LOCATION:VIP Pizza\, 1201 Tower Avenue\, Superior\, WI\, 54880\, United States
END:VEVENT
BEGIN:VEVENT
DTSTART;TZID=America/Chicago:20230520T100000
DTEND;TZID=America/Chicago:20230520T170000
DTSTAMP:20260423T124708
CREATED:20230426T164619Z
LAST-MODIFIED:20230426T164619Z
UID:2037-1684576800-1684602000@www.swordsatvclub.com
SUMMARY:2023 Spring Trail Clean-Up - Saturday\, May 20th
DESCRIPTION:Please save the date for our Spring Trail Clean-Up which is Saturday\, May 20 starting at 10:00 AM; meeting at Schallermier Road to work on the Saunders Grade Trail (Old Soo Line).  Schallermier Road is located off of Wisconsin State Hwy 35\, just north of Pickled Pete’s Saloon.   For additional reference\, Superior Paintball is located at the end of Schallermier Road. Parking is on the trail immediately after you cross the railroad tracks on Schallermier Road.   \n  \nGoogle Maps:  https://goo.gl/maps/m6SKZLF99R7H3XH5A \n  \nAt the trail clean up we:  grade the trail\, clean up railroad spikes & garbage\, trim brush\, trees\, etc.  Folks that have chain saws or trailers to haul garbage\, equipment\, etc. are encouraged to bring these items.  The club has two gas pole saws and some brush nippers.  The state of Wisconsin pays the club for the grader\, every person\, ATV\, trailer\, etc that is used.  This money is what funds our club and it is EXTREMELY important that we use up the funds allotted to our club every year or they will cut our funding.  If we don’t use it… we will lose it! \n  \nGenerally people bring snacks and beverages for during the day.  The club will be cooking up brats at the pavilion / warming shack after the clean up for all that are able and willing to help out. **Note there is no power at the shack for crock pots\, please plan accordingly if you plan to bring something to share. \n  \nPlease find Cindy when you get there to sign in so we have an accurate count for volunteer hours. \n  \nHope to see you there!
URL:https://www.swordsatvclub.com/event/2023-spring-trail-clean-up-saturday-may-20th/
LOCATION:WI
END:VEVENT
BEGIN:VEVENT
DTSTART;TZID=America/Chicago:20230504T183000
DTEND;TZID=America/Chicago:20230504T203000
DTSTAMP:20260423T124708
CREATED:20230426T172509Z
LAST-MODIFIED:20230426T172509Z
UID:2054-1683225000-1683232200@www.swordsatvclub.com
SUMMARY:SWORDS Monthly Meeting 6:30 VIP Superior
DESCRIPTION:
URL:https://www.swordsatvclub.com/event/swords-monthly-meeting-630-vip-superior/
LOCATION:VIP Pizza\, 1201 Tower Avenue\, Superior\, WI\, 54880\, United States
END:VEVENT
BEGIN:VEVENT
DTSTART;TZID=America/Chicago:20230209T183000
DTEND;TZID=America/Chicago:20230209T200000
DTSTAMP:20260423T124708
CREATED:20230210T012305Z
LAST-MODIFIED:20230330T002552Z
UID:2030-1675967400-1675972800@www.swordsatvclub.com
SUMMARY:SWORDS Meeting
DESCRIPTION:
URL:https://www.swordsatvclub.com/event/swords-meeting/
LOCATION:VIP Pizza\, 1201 Tower Avenue\, Superior\, WI\, 54880\, United States
END:VEVENT
BEGIN:VEVENT
DTSTART;TZID=America/Chicago:20230105T183000
DTEND;TZID=America/Chicago:20230105T183000
DTSTAMP:20260423T124708
CREATED:20210913T182526Z
LAST-MODIFIED:20210913T182526Z
UID:2011-1672943400-1672943400@www.swordsatvclub.com
SUMMARY:SWORDS ATV Meeting
DESCRIPTION:
URL:https://www.swordsatvclub.com/event/swords-atv-meeting-19/
LOCATION:WI
END:VEVENT
BEGIN:VEVENT
DTSTART;TZID=America/Chicago:20221208T183000
DTEND;TZID=America/Chicago:20221208T183000
DTSTAMP:20260423T124708
CREATED:20210913T182453Z
LAST-MODIFIED:20210913T182453Z
UID:2009-1670524200-1670524200@www.swordsatvclub.com
SUMMARY:SWORDS ATV Meeting
DESCRIPTION:
URL:https://www.swordsatvclub.com/event/swords-atv-meeting-18/
LOCATION:WI
END:VEVENT
BEGIN:VEVENT
DTSTART;TZID=America/Chicago:20221103T183000
DTEND;TZID=America/Chicago:20221103T183000
DTSTAMP:20260423T124708
CREATED:20210913T182236Z
LAST-MODIFIED:20210913T182236Z
UID:2007-1667500200-1667500200@www.swordsatvclub.com
SUMMARY:SWORDS ATV Meeting
DESCRIPTION:
URL:https://www.swordsatvclub.com/event/swords-atv-meeting-17/
LOCATION:WI
END:VEVENT
BEGIN:VEVENT
DTSTART;TZID=America/Chicago:20221006T183000
DTEND;TZID=America/Chicago:20221006T183000
DTSTAMP:20260423T124708
CREATED:20210913T181450Z
LAST-MODIFIED:20210913T181450Z
UID:2005-1665081000-1665081000@www.swordsatvclub.com
SUMMARY:SWORDS ATV Meeting
DESCRIPTION:
URL:https://www.swordsatvclub.com/event/swords-atv-meeting-16/
LOCATION:WI
END:VEVENT
BEGIN:VEVENT
DTSTART;TZID=America/Chicago:20220908T183000
DTEND;TZID=America/Chicago:20220908T183000
DTSTAMP:20260423T124708
CREATED:20210913T181255Z
LAST-MODIFIED:20210913T181255Z
UID:2003-1662661800-1662661800@www.swordsatvclub.com
SUMMARY:SWORDS ATV Meeting
DESCRIPTION:
URL:https://www.swordsatvclub.com/event/swords-atv-meeting-15/
LOCATION:WI
END:VEVENT
BEGIN:VEVENT
DTSTART;TZID=America/Chicago:20220804T183000
DTEND;TZID=America/Chicago:20220804T183000
DTSTAMP:20260423T124708
CREATED:20210913T180752Z
LAST-MODIFIED:20210913T180752Z
UID:2000-1659637800-1659637800@www.swordsatvclub.com
SUMMARY:SWORDS ATV Meeting
DESCRIPTION:
URL:https://www.swordsatvclub.com/event/swords-atv-meeting-14/
LOCATION:WI
END:VEVENT
BEGIN:VEVENT
DTSTART;VALUE=DATE:20220730
DTEND;VALUE=DATE:20220731
DTSTAMP:20260423T124708
CREATED:20220203T154822Z
LAST-MODIFIED:20220203T155853Z
UID:2019-1659139200-1659225599@www.swordsatvclub.com
SUMMARY:Summer Camping and Ride
DESCRIPTION:
URL:https://www.swordsatvclub.com/event/summer-camping-and-ride/
LOCATION:WI
END:VEVENT
BEGIN:VEVENT
DTSTART;VALUE=DATE:20220707
DTEND;VALUE=DATE:20220708
DTSTAMP:20260423T124708
CREATED:20210913T174317Z
LAST-MODIFIED:20210913T174317Z
UID:1995-1657152000-1657238399@www.swordsatvclub.com
SUMMARY:NO SWORDS ATV Meeting in July
DESCRIPTION:
URL:https://www.swordsatvclub.com/event/no-swords-atv-meeting-in-july-2/
LOCATION:WI
END:VEVENT
BEGIN:VEVENT
DTSTART;TZID=America/Chicago:20220609T183000
DTEND;TZID=America/Chicago:20220609T183000
DTSTAMP:20260423T124708
CREATED:20210913T173751Z
LAST-MODIFIED:20210913T173751Z
UID:1993-1654799400-1654799400@www.swordsatvclub.com
SUMMARY:SWORDS ATV Meeting
DESCRIPTION:
URL:https://www.swordsatvclub.com/event/swords-atv-meeting-13/
LOCATION:VIP Pizza\, 1201 Tower Avenue\, Superior\, WI\, 54880\, United States
END:VEVENT
BEGIN:VEVENT
DTSTART;TZID=America/Chicago:20220505T183000
DTEND;TZID=America/Chicago:20220505T183000
DTSTAMP:20260423T124708
CREATED:20210913T173646Z
LAST-MODIFIED:20210913T173646Z
UID:1991-1651775400-1651775400@www.swordsatvclub.com
SUMMARY:SWORDS ATV Meeting
DESCRIPTION:
URL:https://www.swordsatvclub.com/event/swords-atv-meeting-12/
LOCATION:VIP Pizza\, 1201 Tower Avenue\, Superior\, WI\, 54880\, United States
END:VEVENT
BEGIN:VEVENT
DTSTART;TZID=America/Chicago:20220407T183000
DTEND;TZID=America/Chicago:20220407T183000
DTSTAMP:20260423T124708
CREATED:20210913T173606Z
LAST-MODIFIED:20210913T173606Z
UID:1989-1649356200-1649356200@www.swordsatvclub.com
SUMMARY:SWORDS ATV Meeting
DESCRIPTION:
URL:https://www.swordsatvclub.com/event/swords-atv-meeting-11/
LOCATION:VIP Pizza\, 1201 Tower Avenue\, Superior\, WI\, 54880\, United States
END:VEVENT
BEGIN:VEVENT
DTSTART;VALUE=DATE:20220401
DTEND;VALUE=DATE:20220404
DTSTAMP:20260423T124708
CREATED:20220203T154227Z
LAST-MODIFIED:20220203T154227Z
UID:2016-1648771200-1649030399@www.swordsatvclub.com
SUMMARY:Sports Show - Fish & Game League of Douglas County
DESCRIPTION:
URL:https://www.swordsatvclub.com/event/sports-show-fish-game-league-of-douglas-county/
LOCATION:WI
END:VEVENT
BEGIN:VEVENT
DTSTART;TZID=America/Chicago:20220303T183000
DTEND;TZID=America/Chicago:20220303T183000
DTSTAMP:20260423T124708
CREATED:20210913T173532Z
LAST-MODIFIED:20210913T173532Z
UID:1987-1646332200-1646332200@www.swordsatvclub.com
SUMMARY:SWORDS ATV Meeting
DESCRIPTION:
URL:https://www.swordsatvclub.com/event/swords-atv-meeting-10/
LOCATION:VIP Pizza\, 1201 Tower Avenue\, Superior\, WI\, 54880\, United States
END:VEVENT
BEGIN:VEVENT
DTSTART;TZID=America/Chicago:20220226T090000
DTEND;TZID=America/Chicago:20220226T090000
DTSTAMP:20260423T124708
CREATED:20220204T210847Z
LAST-MODIFIED:20220204T211054Z
UID:2021-1645866000-1645866000@www.swordsatvclub.com
SUMMARY:SWORDS ATV Club- 32nd Annual Poker Run
DESCRIPTION:Please see event information on our Facebook Event at SWORDS Poker Run Facebook Event Page
URL:https://www.swordsatvclub.com/event/swords-atv-club-2nd-annual-poker-run/
LOCATION:WI
END:VEVENT
BEGIN:VEVENT
DTSTART;TZID=America/Chicago:20220203T183000
DTEND;TZID=America/Chicago:20220203T183000
DTSTAMP:20260423T124708
CREATED:20210913T173444Z
LAST-MODIFIED:20210913T173444Z
UID:1985-1643913000-1643913000@www.swordsatvclub.com
SUMMARY:SWORDS ATV Meeting
DESCRIPTION:
URL:https://www.swordsatvclub.com/event/swords-atv-meeting-9/
LOCATION:VIP Pizza\, 1201 Tower Avenue\, Superior\, WI\, 54880\, United States
END:VEVENT
BEGIN:VEVENT
DTSTART;TZID=America/Chicago:20220106T183000
DTEND;TZID=America/Chicago:20220106T183000
DTSTAMP:20260423T124708
CREATED:20210504T155237Z
LAST-MODIFIED:20210504T155237Z
UID:1969-1641493800-1641493800@www.swordsatvclub.com
SUMMARY:SWORDS ATV Meeting
DESCRIPTION:
URL:https://www.swordsatvclub.com/event/swords-atv-meeting-8/
LOCATION:VIP Pizza\, 1201 Tower Avenue\, Superior\, WI\, 54880\, United States
END:VEVENT
BEGIN:VEVENT
DTSTART;TZID=America/Chicago:20211209T183000
DTEND;TZID=America/Chicago:20211209T183000
DTSTAMP:20260423T124708
CREATED:20210504T155200Z
LAST-MODIFIED:20210504T155200Z
UID:1967-1639074600-1639074600@www.swordsatvclub.com
SUMMARY:SWORDS ATV Meeting
DESCRIPTION:
URL:https://www.swordsatvclub.com/event/swords-atv-meeting-7/
LOCATION:VIP Pizza\, 1201 Tower Avenue\, Superior\, WI\, 54880\, United States
END:VEVENT
BEGIN:VEVENT
DTSTART;TZID=America/Chicago:20211104T183000
DTEND;TZID=America/Chicago:20211104T183000
DTSTAMP:20260423T124708
CREATED:20210504T155124Z
LAST-MODIFIED:20210504T155124Z
UID:1965-1636050600-1636050600@www.swordsatvclub.com
SUMMARY:SWORDS ATV Meeting
DESCRIPTION:
URL:https://www.swordsatvclub.com/event/swords-atv-meeting-6/
LOCATION:VIP Pizza\, 1201 Tower Avenue\, Superior\, WI\, 54880\, United States
END:VEVENT
BEGIN:VEVENT
DTSTART;TZID=America/Chicago:20211007T183000
DTEND;TZID=America/Chicago:20211007T183000
DTSTAMP:20260423T124708
CREATED:20210504T155041Z
LAST-MODIFIED:20210504T155041Z
UID:1963-1633631400-1633631400@www.swordsatvclub.com
SUMMARY:SWORDS ATV Meeting
DESCRIPTION:
URL:https://www.swordsatvclub.com/event/swords-atv-meeting-5/
LOCATION:VIP Pizza\, 1201 Tower Avenue\, Superior\, WI\, 54880\, United States
END:VEVENT
BEGIN:VEVENT
DTSTART;VALUE=DATE:20211002
DTEND;VALUE=DATE:20211003
DTSTAMP:20260423T124708
CREATED:20210825T151123Z
LAST-MODIFIED:20210825T151130Z
UID:1977-1633132800-1633219199@www.swordsatvclub.com
SUMMARY:SWORDS Annual Fall Ride
DESCRIPTION:Iron River\, WI
URL:https://www.swordsatvclub.com/event/swords-annual-fall-ride/
LOCATION:WI
END:VEVENT
BEGIN:VEVENT
DTSTART;TZID=America/Chicago:20210919T100000
DTEND;TZID=America/Chicago:20210919T100000
DTSTAMP:20260423T124708
CREATED:20210901T215548Z
LAST-MODIFIED:20210901T215548Z
UID:1981-1632045600-1632045600@www.swordsatvclub.com
SUMMARY:Fall Trail Clean-Up
DESCRIPTION:Meet at Drifter’s Trail Tavern in Patzau
URL:https://www.swordsatvclub.com/event/fall-trail-clean-up/
LOCATION:WI
END:VEVENT
BEGIN:VEVENT
DTSTART;TZID=America/Chicago:20210909T183000
DTEND;TZID=America/Chicago:20210909T183000
DTSTAMP:20260423T124708
CREATED:20210504T154937Z
LAST-MODIFIED:20210915T213438Z
UID:1961-1631212200-1631212200@www.swordsatvclub.com
SUMMARY:SWORDS ATV Meeting
DESCRIPTION:
URL:https://www.swordsatvclub.com/event/swords-atv-meeting-4/
LOCATION:Drifter’s Trail Tavern
END:VEVENT
BEGIN:VEVENT
DTSTART;TZID=America/Chicago:20210805T183000
DTEND;TZID=America/Chicago:20210805T183000
DTSTAMP:20260423T124708
CREATED:20210504T154853Z
LAST-MODIFIED:20210504T154853Z
UID:1959-1628188200-1628188200@www.swordsatvclub.com
SUMMARY:SWORDS ATV Meeting
DESCRIPTION:
URL:https://www.swordsatvclub.com/event/swords-atv-meeting-3/
LOCATION:VIP Pizza\, 1201 Tower Avenue\, Superior\, WI\, 54880\, United States
END:VEVENT
BEGIN:VEVENT
DTSTART;VALUE=DATE:20210731
DTEND;VALUE=DATE:20210801
DTSTAMP:20260423T124708
CREATED:20210504T153739Z
LAST-MODIFIED:20210504T153739Z
UID:1956-1627689600-1627775999@www.swordsatvclub.com
SUMMARY:SWORDS ATV Club Summer Ride / Camping
DESCRIPTION:The summer ATV ride is on Saturday\, July 31st\, 2021 and camping is again at the Wild Rivers Trail Campground in Minong\, WI.  The address is 802 Railroad Street\, Minong\, WI 54859 \n \nGoogle Maps Link: https://goo.gl/maps/w1DijHb9TQpKSexy8\n \nCampground Map:\nhttps://www.washburncountyparks.us/parks/i/lm/wild_river_atv_campground.png\n \nWebsite link to the campground information:  Washburn County Parks Reservations » Camping » Minong – Wild River Trail ATV Campground \n \n\n\n\n\n\n\n\n\n\n\n\n\n\n\n\n\n \n\n \n\n\n\n\n\n\n\n\n\n\n\n\n\n\n\n \n\nWashburn County Parks Reservations » Camping » Minong – Wild River Trail…\n \n\n\n\n\n\n\n\n\n\n\n\n\n\n\n 
URL:https://www.swordsatvclub.com/event/swords-atv-club-summer-ride-camping/
LOCATION:WI
END:VEVENT
BEGIN:VEVENT
DTSTART;VALUE=DATE:20210708
DTEND;VALUE=DATE:20210709
DTSTAMP:20260423T124708
CREATED:20210504T151148Z
LAST-MODIFIED:20210504T151148Z
UID:1954-1625702400-1625788799@www.swordsatvclub.com
SUMMARY:NO SWORDS ATV Meeting in July
DESCRIPTION:
URL:https://www.swordsatvclub.com/event/no-swords-atv-meeting-in-july/
LOCATION:WI
END:VEVENT
BEGIN:VEVENT
DTSTART;TZID=America/Chicago:20210603T183000
DTEND;TZID=America/Chicago:20210603T183000
DTSTAMP:20260423T124708
CREATED:20210504T124123Z
LAST-MODIFIED:20210504T124123Z
UID:1951-1622745000-1622745000@www.swordsatvclub.com
SUMMARY:SWORDS ATV Meeting
DESCRIPTION:
URL:https://www.swordsatvclub.com/event/swords-atv-meeting-2/
LOCATION:VIP Pizza\, 1201 Tower Avenue\, Superior\, WI\, 54880\, United States
END:VEVENT
END:VCALENDAR